0.500
0.000
0.000
-0.500
1312500.250
669999.750
