0.500
0.000
0.000
-0.500
1310000.250
717499.750
