0.500
0.000
0.000
-0.500
1305000.250
662499.750
