0.500
0.000
0.000
-0.500
1302500.250
699999.750
