0.500
0.000
0.000
-0.500
1297500.250
677499.750
