0.500
0.000
0.000
-0.500
1295000.250
697499.750
