0.500
0.000
0.000
-0.500
1295000.250
657499.750
