0.500
0.000
0.000
-0.500
1285000.250
694999.750
