0.500
0.000
0.000
-0.500
1282500.250
679999.750
