0.500
0.000
0.000
-0.500
1282500.250
644999.750
