0.500
0.000
0.000
-0.500
1277500.250
692499.750
