0.500
0.000
0.000
-0.500
1275000.250
697499.750
