0.500
0.000
0.000
-0.500
1272500.250
634999.750
