0.500
0.000
0.000
-0.500
1270000.250
614999.750
