0.500
0.000
0.000
-0.500
1267500.250
632499.750
