0.500
0.000
0.000
-0.500
1265000.250
679999.750
