0.500
0.000
0.000
-0.500
1262500.250
674999.750
