0.500
0.000
0.000
-0.500
1262500.250
592499.750
