0.500
0.000
0.000
-0.500
1262500.250
574999.750
