0.500
0.000
0.000
-0.500
1257500.250
559999.750
