0.500
0.000
0.000
-0.500
1255000.250
657499.750
