0.500
0.000
0.000
-0.500
1255000.250
577499.750
