0.500
0.000
0.000
-0.500
1252500.250
662499.750
