0.500
0.000
0.000
-0.500
1252500.250
589999.750
