0.500
0.000
0.000
-0.500
1250000.250
629999.750
