0.500
0.000
0.000
-0.500
1247500.250
622499.750
