0.500
0.000
0.000
-0.500
1245000.250
667499.750
