0.500
0.000
0.000
-0.500
1242500.250
569999.750
