0.500
0.000
0.000
-0.500
1240000.250
654999.750
