0.500
0.000
0.000
-0.500
1237500.250
672499.750
