0.500
0.000
0.000
-0.500
1232500.250
667499.750
