0.500
0.000
0.000
-0.500
1230000.250
642499.750
