0.500
0.000
0.000
-0.500
1227500.250
664999.750
