0.500
0.000
0.000
-0.500
1222500.250
659999.750
