0.500
0.000
0.000
-0.500
1220000.250
627499.750
