0.500
0.000
0.000
-0.500
1217500.250
674999.750
