0.500
0.000
0.000
-0.500
1217500.250
617499.750
