0.500
0.000
0.000
-0.500
1215000.250
667499.750
