0.500
0.000
0.000
-0.500
1215000.250
607499.750
