0.500
0.000
0.000
-0.500
1215000.250
602499.750
