0.500
0.000
0.000
-0.500
1212500.250
622499.750
