0.2500000000
0.0000000000
0.0000000000
-0.2500000000
540000.1250000000
6410999.8750000000
