0.2500000000
0.0000000000
0.0000000000
-0.2500000000
537000.1250000000
6413999.8750000000
