0.2500000000
0.0000000000
0.0000000000
-0.2500000000
531000.1250000000
6401999.8750000000
