0.2500000000
0.0000000000
0.0000000000
-0.2500000000
522000.1250000000
6395999.8750000000
