0.2500000000
0.0000000000
0.0000000000
-0.2500000000
519000.1250000000
6392999.8750000000
