0.2500000000
0.0000000000
0.0000000000
-0.2500000000
546000.1250000000
7496999.8750000000
