0.2500000000
0.0000000000
0.0000000000
-0.2500000000
543000.1250000000
7493999.8750000000
