0.2500000000
0.0000000000
0.0000000000
-0.2500000000
540000.1250000000
7502999.8750000000
