0.2500000000
0.0000000000
0.0000000000
-0.2500000000
525000.1250000000
7508999.8750000000
